BEGIN:VCALENDAR
VERSION:2.0
PRODID:-//wp-events-plugin.com//7.2.3.1//EN
TZID:America/Chicago
X-WR-TIMEZONE:America/Chicago
BEGIN:VEVENT
UID:98@usafibroidcenters.com
DTSTART;TZID=America/Chicago:20260409T190000
DTEND;TZID=America/Chicago:20260409T200000
DTSTAMP:20260409T163017Z
URL:https://www.usafibroidcenters.com/events/can-fibroids-shrink-on-their-
 own/
SUMMARY:Can Fibroids Shrink On Their Own?
DESCRIPTION:[embed]https://www.youtube.com/watch?v=PYx9Hi38fC8[/embed]\nJoi
 n host Kym Lee as she sits down with North Carolina–based lifestyle and
  fashion creator Jessica Laure’l along with expert medical advice from 
 Dr. Aaron Shiloh\, for a real conversation about fibroids\, symptoms\, and
  non-surgical treatment options\nSummary: Jessica Laure’l helps women el
 evate their daily lives through affordable fashion\, travel inspiration\, 
 and a focus on self-confidence. A dedicated mother\, social media influenc
 er .and creator\, she highlights how to build a stylish\, empowered life.\
 n▶️ Watch on USA Fibroid Centers YouTube\n Subscribe now to get notifi
 ed when we go live!\n—————————————————
 ————————————————————————
 ————– \nExplore our website\nHave Fibroids? Know Your Options 
 – Learn more about fibroids\, symptoms and Uterine Fibroid Embolization 
 (UFE).   \n\n 	Learn more about UFE &amp\; Fibroid Treatment\n 	Schedu
 le a consultation with a Fibroid Specialist\n 	Find a location Near You
   \n\nStay Connected &amp\; Learn More\n\n\n 	Catch live episodes &amp\;
  fresh content on Instagram\n 	Subscribe to our YouTube channel\n 	Explo
 re upcoming events (Virtual\, In-Person &amp\; On-demand)\n
ATTACH;FMTTYPE=image/jpeg:https://www.usafibroidcenters.com/content/upload
 s/2026/03/Jessica-Laurel.jpg
CATEGORIES:Virtual
END:VEVENT
BEGIN:VTIMEZONE
TZID:America/Chicago
X-LIC-LOCATION:America/Chicago
BEGIN:DAYLIGHT
DTSTART:20260308T030000
TZOFFSETFROM:-0600
TZOFFSETTO:-0500
TZNAME:CDT
END:DAYLIGHT
END:VTIMEZONE
END:VCALENDAR