BEGIN:VCALENDAR
VERSION:2.0
PRODID:-//wp-events-plugin.com//7.2.3.1//EN
TZID:America/Chicago
X-WR-TIMEZONE:America/Chicago
BEGIN:VEVENT
UID:55@usafibroidcenters.com
DTSTART;TZID=America/Chicago:20250425T190000
DTEND;TZID=America/Chicago:20250425T200000
DTSTAMP:20250728T191118Z
URL:https://www.usafibroidcenters.com/events/national-infertility-awarenes
 s-week/
SUMMARY:National Infertility Awareness Week
DESCRIPTION:Erica L. Taylor and Regina Townsend Discuss Infertility\nIn rec
 ognition of National Infertility Awareness Week\, hear from two leading ad
 vocates.  Erica L. Taylor\, founder of The Red Alert Project\, shares her 
 fibroid and infertility journey\, highlighting health disparities that dis
 proportionately affect women of color. Regina Townsend\, founder of The Br
 oken Brown Egg\, discusses empowering those who face reproductive challeng
 es. Watch their conversation exploring personal experiences and the critic
 al need for awareness and support. \nWatch Now!\n[embed]https://youtu.be/
 kVg6XasyHv0[/embed]\n\n—————————————————
 ————————————————————————
 —— \n\nTake control of your health today—Learn more about Uterine F
 ibroid\, the symptoms\, and treatment options\, and schedule your consulta
 tion.\nExplore our website \n Have Fibroids? Know Your Options – Learn
  more about fibroids\, symptoms and Uterine Fibroid Embolization (UFE). \
 n\n 	Learn more about UFE &amp\; Fibroid Treatment\n 	Schedule a consultat
 ion with a Fibroid Specialist\n 	Find a location Near You\n\nStay Connecte
 d &amp\; Learn More\n\n\n 	Catch live episodes &amp\; fresh content on Ins
 tagram\n 	Subscribe to our YouTube channel\n 	Explore upcoming events (Vir
 tual\, In-Person &amp\; On-demand)\n
ATTACH;FMTTYPE=image/jpeg:https://www.usafibroidcenters.com/content/upload
 s/2025/03/Copy-of-3x2-1200-x-800-px-3.jpg
CATEGORIES:Virtual
END:VEVENT
BEGIN:VTIMEZONE
TZID:America/Chicago
X-LIC-LOCATION:America/Chicago
BEGIN:DAYLIGHT
DTSTART:20250309T030000
TZOFFSETFROM:-0600
TZOFFSETTO:-0500
TZNAME:CDT
END:DAYLIGHT
END:VTIMEZONE
END:VCALENDAR